BEGIN:VCALENDAR
VERSION:2.0
PRODID:-//ΣΑΕΚ - ECPv5.1.4//NONSGML v1.0//EN
CALSCALE:GREGORIAN
METHOD:PUBLISH
X-WR-CALNAME:ΣΑΕΚ
X-ORIGINAL-URL:https://www.saekalumni.gr
X-WR-CALDESC:ΣΑΕΚ - Εκδηλώσεις
BEGIN:VTIMEZONE
TZID:Europe/Moscow
BEGIN:STANDARD
TZOFFSETFROM:+0300
TZOFFSETTO:+0300
TZNAME:MSK
DTSTART:20190101T000000
END:STANDARD
END:VTIMEZONE
BEGIN:VEVENT
DTSTART;TZID=Europe/Moscow:20190413T103000
DTEND;TZID=Europe/Moscow:20190413T120000
DTSTAMP:20260424T065244
CREATED:20190326T182937Z
LAST-MODIFIED:20190326T183518Z
UID:2684-1555151400-1555156800@www.saekalumni.gr
SUMMARY:Αγώνας ποδοσφαίρου: Βετεράνοι VS Λεμούριοι
DESCRIPTION:
URL:https://www.saekalumni.gr/event/%ce%b1%ce%b3%cf%8e%ce%bd%ce%b1%cf%82-%cf%80%ce%bf%ce%b4%ce%bf%cf%83%cf%86%ce%b1%ce%af%cf%81%ce%bf%cf%85-%ce%b1%cf%80%cf%8c%cf%86%ce%bf%ce%b9%cf%84%ce%bf%ce%b9-%ce%ba%ce%b1%ce%b8%ce%b7%ce%b3%ce%b7/
LOCATION:Εκπαιδευτήρια Καίσαρη
CATEGORIES:Home
ATTACH;FMTTYPE=image/jpeg:https://www.saekalumni.gr/wp-content/uploads/2019/03/mpala-podosfero.jpg
END:VEVENT
END:VCALENDAR